BEGIN:VCALENDAR
PRODID:-//AT Content Types//AT Event//EN
VERSION:2.0
METHOD:PUBLISH
BEGIN:VEVENT
DTSTAMP:20260423T004111Z
CREATED:20220314T200504Z
UID:ATEvent-e0c24e501b6848e28900dac41a3bc46d
LAST-MODIFIED:20220314T200858Z
SUMMARY:Qualidade e segurança na prática da enfermagem
DTSTART:20220316T140000Z
DTEND:20220318T150000Z
LOCATION:LSAC
CLASS:PUBLIC
END:VEVENT
END:VCALENDAR
