BEGIN:VCALENDAR
PRODID:-//AT Content Types//AT Event//EN
VERSION:2.0
METHOD:PUBLISH
BEGIN:VEVENT
DTSTAMP:20260420T053900Z
CREATED:20150224T142030Z
UID:ATEvent-932150740bd340f996a80977a7b93847
LAST-MODIFIED:20150224T142033Z
SUMMARY:Recepção festiva aos ingressantes
DTSTART:20150306T210000Z
DTEND:20150307T025500Z
LOCATION:Instituto Biomédico - Estacionamento
CONTACT:Luisa\, 25317998\, ccbs-ib-gabdiretor@unirio.br
CLASS:PUBLIC
END:VEVENT
END:VCALENDAR
