BEGIN:VCALENDAR
PRODID:-//AT Content Types//AT Event//EN
VERSION:2.0
METHOD:PUBLISH
BEGIN:VEVENT
DTSTAMP:20260420T071431Z
CREATED:20211202T012750Z
UID:ATEvent-6bf91ac1c63f41b2853620880a15603c
LAST-MODIFIED:20211202T012924Z
SUMMARY:XI Jornada de Estudos Medievais
DTSTART:20211202T120000Z
DTEND:20211202T200000Z
DESCRIPTION:XI Jornada de Estudos Medievais
URL:https://docs.google.com/forms/d/10BL_e8VuR_GTom0qPI8zTk_7rDaljdHWVESLR-IJWYc/viewform?edit_requested=true
CLASS:PUBLIC
END:VEVENT
END:VCALENDAR
