BEGIN:VCALENDAR
PRODID:-//AT Content Types//AT Event//EN
VERSION:2.0
METHOD:PUBLISH
BEGIN:VEVENT
DTSTAMP:20260424T222859Z
CREATED:20161123T161939Z
UID:ATEvent-25a38b3d5e45492d973729909db284be
LAST-MODIFIED:20161123T162127Z
SUMMARY:‘Aleitamento materno x fórmulas lácteas’ será tema de palestra do PPGAN
DTSTART:20161124T140000Z
DTEND:20161124T160000Z
CONTACT:2542-7262
CLASS:PUBLIC
END:VEVENT
END:VCALENDAR
