BEGIN:VCALENDAR
PRODID:-//AT Content Types//AT Event//EN
VERSION:2.0
METHOD:PUBLISH
BEGIN:VEVENT
DTSTAMP:20260422T232344Z
CREATED:20171010T135324Z
UID:ATEvent-af4e0ca414e5405a9937f71f99e01673
LAST-MODIFIED:20171010T135333Z
SUMMARY:Reunião do Grupo Interdisciplinar de Educação e Inclusão
DTSTART:20171011T135500Z
DTEND:20171014T135500Z
CLASS:PUBLIC
END:VEVENT
END:VCALENDAR
